BEGIN:VCALENDAR
VERSION:2.0
PRODID:-//Ohio Mennonite Conference - ECPv6.15.20//NONSGML v1.0//EN
CALSCALE:GREGORIAN
METHOD:PUBLISH
X-WR-CALNAME:Ohio Mennonite Conference
X-ORIGINAL-URL:https://ohiomennoniteconference.org
X-WR-CALDESC:Events for Ohio Mennonite Conference
REFRESH-INTERVAL;VALUE=DURATION:PT1H
X-Robots-Tag:noindex
X-PUBLISHED-TTL:PT1H
BEGIN:VTIMEZONE
TZID:America/New_York
BEGIN:DAYLIGHT
TZOFFSETFROM:-0500
TZOFFSETTO:-0400
TZNAME:EDT
DTSTART:20160313T070000
END:DAYLIGHT
BEGIN:STANDARD
TZOFFSETFROM:-0400
TZOFFSETTO:-0500
TZNAME:EST
DTSTART:20161106T060000
END:STANDARD
BEGIN:DAYLIGHT
TZOFFSETFROM:-0500
TZOFFSETTO:-0400
TZNAME:EDT
DTSTART:20170312T070000
END:DAYLIGHT
BEGIN:STANDARD
TZOFFSETFROM:-0400
TZOFFSETTO:-0500
TZNAME:EST
DTSTART:20171105T060000
END:STANDARD
BEGIN:DAYLIGHT
TZOFFSETFROM:-0500
TZOFFSETTO:-0400
TZNAME:EDT
DTSTART:20180311T070000
END:DAYLIGHT
BEGIN:STANDARD
TZOFFSETFROM:-0400
TZOFFSETTO:-0500
TZNAME:EST
DTSTART:20181104T060000
END:STANDARD
BEGIN:DAYLIGHT
TZOFFSETFROM:-0500
TZOFFSETTO:-0400
TZNAME:EDT
DTSTART:20190310T070000
END:DAYLIGHT
BEGIN:STANDARD
TZOFFSETFROM:-0400
TZOFFSETTO:-0500
TZNAME:EST
DTSTART:20191103T060000
END:STANDARD
BEGIN:DAYLIGHT
TZOFFSETFROM:-0500
TZOFFSETTO:-0400
TZNAME:EDT
DTSTART:20200308T070000
END:DAYLIGHT
BEGIN:STANDARD
TZOFFSETFROM:-0400
TZOFFSETTO:-0500
TZNAME:EST
DTSTART:20201101T060000
END:STANDARD
BEGIN:DAYLIGHT
TZOFFSETFROM:-0500
TZOFFSETTO:-0400
TZNAME:EDT
DTSTART:20210314T070000
END:DAYLIGHT
BEGIN:STANDARD
TZOFFSETFROM:-0400
TZOFFSETTO:-0500
TZNAME:EST
DTSTART:20211107T060000
END:STANDARD
BEGIN:DAYLIGHT
TZOFFSETFROM:-0500
TZOFFSETTO:-0400
TZNAME:EDT
DTSTART:20220313T070000
END:DAYLIGHT
BEGIN:STANDARD
TZOFFSETFROM:-0400
TZOFFSETTO:-0500
TZNAME:EST
DTSTART:20221106T060000
END:STANDARD
BEGIN:DAYLIGHT
TZOFFSETFROM:-0500
TZOFFSETTO:-0400
TZNAME:EDT
DTSTART:20230312T070000
END:DAYLIGHT
BEGIN:STANDARD
TZOFFSETFROM:-0400
TZOFFSETTO:-0500
TZNAME:EST
DTSTART:20231105T060000
END:STANDARD
BEGIN:DAYLIGHT
TZOFFSETFROM:-0500
TZOFFSETTO:-0400
TZNAME:EDT
DTSTART:20240310T070000
END:DAYLIGHT
BEGIN:STANDARD
TZOFFSETFROM:-0400
TZOFFSETTO:-0500
TZNAME:EST
DTSTART:20241103T060000
END:STANDARD
BEGIN:DAYLIGHT
TZOFFSETFROM:-0500
TZOFFSETTO:-0400
TZNAME:EDT
DTSTART:20250309T070000
END:DAYLIGHT
BEGIN:STANDARD
TZOFFSETFROM:-0400
TZOFFSETTO:-0500
TZNAME:EST
DTSTART:20251102T060000
END:STANDARD
END:VTIMEZONE
BEGIN:VEVENT
DTSTART;TZID=America/New_York:20240109T183000
DTEND;TZID=America/New_York:20240109T203000
DTSTAMP:20260421T045023
CREATED:20230525T175923Z
LAST-MODIFIED:20231109T182512Z
UID:15294-1704825000-1704832200@ohiomennoniteconference.org
SUMMARY:Winter Delegate Cluster Meeting
DESCRIPTION:Five winter cluster meetings have been scheduled for Ohio Conference delegates to Annual Confer­ence Assembly. Each meeting will begin at 6:30 p.m. and last about two hours. \n Locations are as follows: \n\nJan. 9 — Tedrow Mennonite Church\, Wauseon\nJan. 11 — Beech Mennonite Church\, Louisville\nJan. 16 — Crown Hill Mennonite Church\, Rittman\nJan. 18 — Oak Grove Mennonite Church\, West Liberty\nJan. 22 — Online meeting via Zoom\n\nPlease register for the cluster meeting that you plan to attend. Register online at https://bit.ly/2024WinterClusterMeetings. \nRegister Now \n\n\n	Related
URL:https://ohiomennoniteconference.org/event/winter-delegate-cluster-meeting-5/
LOCATION:Tedrow Mennonite Church\, 252 Windish Street\, Wauseon\, OH\, 43567\, United States
GEO:41.6032763;-84.2039792
X-APPLE-STRUCTURED-LOCATION;VALUE=URI;X-ADDRESS=Tedrow Mennonite Church 252 Windish Street Wauseon OH 43567 United States;X-APPLE-RADIUS=500;X-TITLE=252 Windish Street:geo:-84.2039792,41.6032763
END:VEVENT
BEGIN:VEVENT
DTSTART;TZID=America/New_York:20220201T183000
DTEND;TZID=America/New_York:20220201T200000
DTSTAMP:20260421T045023
CREATED:20211214T203324Z
LAST-MODIFIED:20220110T164801Z
UID:12631-1643740200-1643745600@ohiomennoniteconference.org
SUMMARY:Winter Cluster Meeting
DESCRIPTION:Ohio Conference is planning five winter cluster meetings for delegates to Annual Conference Assembly. Each meeting will begin at 6:30 p.m. and last approximately 90 minutes. \nLocations are as follows: \n\nJan. 18 — Bethel Mennonite Church\, West Liberty\nJan. 27 — Salem Mennonite Church\, Kidron\nFeb. 1 — Tedrow Mennonite Church\, Wauseon\nFeb. 10 — Maple Grove Mennonite Church\, Hartville\nFeb. 15 — Online via Zoom\n\n  \nThere is no charge to attend this meeting; however\, we do ask that you register in advance. \nRegister Now \n  \n \n\n\n	Related
URL:https://ohiomennoniteconference.org/event/winter-cluster-meeting-11/
LOCATION:Tedrow Mennonite Church\, 252 Windish Street\, Wauseon\, OH\, 43567\, United States
GEO:41.6032763;-84.2039792
X-APPLE-STRUCTURED-LOCATION;VALUE=URI;X-ADDRESS=Tedrow Mennonite Church 252 Windish Street Wauseon OH 43567 United States;X-APPLE-RADIUS=500;X-TITLE=252 Windish Street:geo:-84.2039792,41.6032763
END:VEVENT
BEGIN:VEVENT
DTSTART;TZID=America/New_York:20170221T183000
DTEND;TZID=America/New_York:20170221T200000
DTSTAMP:20260421T045023
CREATED:20170131T204406Z
LAST-MODIFIED:20170213T161427Z
UID:4350-1487701800-1487707200@ohiomennoniteconference.org
SUMMARY:Regional Meeting
DESCRIPTION:Ohio Conference will hold three regional meetings for delegates to Annual Conference Assembly. Tedrow Mennonite Church in Wauseon will host the Feb. 21 meeting. \nOther regional meetings will be at Crown Hill Mennonite Church in Rittman on Feb. 23 and at Oak Grove Mennonite Church in West Liberty on March 7. \n\n\n	Related
URL:https://ohiomennoniteconference.org/event/regional-meeting-2/
LOCATION:Tedrow Mennonite Church\, 252 Windish Street\, Wauseon\, OH\, 43567\, United States
GEO:41.6032763;-84.2039792
X-APPLE-STRUCTURED-LOCATION;VALUE=URI;X-ADDRESS=Tedrow Mennonite Church 252 Windish Street Wauseon OH 43567 United States;X-APPLE-RADIUS=500;X-TITLE=252 Windish Street:geo:-84.2039792,41.6032763
END:VEVENT
END:VCALENDAR